BEGIN:VCALENDAR
VERSION:2.0
PRODID:spatie/icalendar-generator
DESCRIPTION:Events from Color Streams
X-WR-CALDESC:Events from Color Streams
REFRESH-INTERVAL;VALUE=DURATION:PT1440M
X-PUBLISHED-TTL:PT1440M
BEGIN:VTIMEZONE
TZID:Etc/GMT+0
BEGIN:STANDARD
DTSTART:20240923T000000Z
TZOFFSETFROM:+0000
TZOFFSETTO:+0000
END:STANDARD
END:VTIMEZONE
BEGIN:VTIMEZONE
TZID:UTC
BEGIN:STANDARD
DTSTART:20250725T140612Z
TZOFFSETFROM:+0000
TZOFFSETTO:+0000
END:STANDARD
END:VTIMEZONE
BEGIN:VEVENT
UID:242-234
DTSTAMP:20260421T140612Z
SUMMARY:9.  God's Love:  Poured Out
LOCATION:
ORGANIZER;CN=Debora Gilley:MAILTO:gilleysandstreams@gmail.com
DTSTART;TZID=Etc/GMT+0;VALUE=DATE:20250620
DTEND;TZID=Etc/GMT+0;VALUE=DATE:20250621
X-ALT-DESC;FMTTYPE=TEXT/HTML:<p>Romans 5:5 Now\, this hope does not disappo
 int us because God's love has been poured out into our hearts by the Holy 
 Spirit\, who has been given to us.</p>\n<p>I am loved!</p>\n<p>When a sorr
 owful\, broken heart hears of a God who will love them unconditionally\, n
 o matter what\, it soars in great joy and thankfulness. It warms and longs
  for His endearing Words and searches more and more for His mercy and grac
 e. Surely\, confidence in Him grows\, and their cup runs over with this sa
 me love for others as the love God gives them.  </p>\n<p>The Vehemency o
 f Love</p>\n<p>Song 8:6 Set me as a seal upon thine heart\, as a seal upon
  thine arm: for love is strong as death\; Jealousy is cruel as the grave: 
 the coals thereof are coals of fire\, which hath a most vehement flame.</p>\n<p>The Great Force and Energy of Love</p>\n<p>God is love - 1 John 4:16
 </p>\n<p>This is love - that God sent His Son to be the atoning sacrifice 
 for our sins 1 John 4:10</p>\n<p>I am passionate against anything that wou
 ld draw me away from Jesus and His love. The fear of coming short of His l
 ove or the temptation to forsake Him ... the thought is most painful.</p>\
 n<p>No water can quench His love for me\, nor any flood draw it out.</p>\n
 <p>The Love of Jesus Christ reaches me in my deep\, deep need. His seal up
 on my heart settles our eternal relationship.</p>\n<p>Ephesians 1:13 You\,
  too\, have heard the word of truth\, the gospel of your salvation. When y
 ou believed in The Messiah\, you were sealed with the promised Holy Spirit
 .</p>\n<p>Four Characteristics of God's Love<br />\nThe Strength of Love: 
 Galatians 2:20 The Son of God loved me and gave Himself for me.<br />\nThe
  Jealousy or passion of love: God's Jealousy is as pure as His love\, and 
 it is because He loves us so tenderly that He is jealous for our souls.<br />\nThe endurance of love: Many waters cannot quench love. Psalm 42:7 Dee
 p waters call out to what is deeper still at the roar of Your waterfalls\,
  all Your breakers and Your waves swirled over me.<br />\nThe Value of Lov
 e: His love to me creates love in me - 1 John 4:19\, Romans 5:5. The lov
 e of God is shed abroad in our hearts by the Holy Spirit\, which is given 
 unto us.</p>\n<p>I need\, and I pray for\, the Spirit of God to be upon me
  this day in a special way that is clearly noticeable. I struggle with Jea
 lousy and anger. I fight insignificance. I fear being useless and unlovabl
 e. But if I believe in God's attributes and the Truth of Who He is\, I mus
 t not feel this way. I need to feel His presence. I need the glory of God 
 to appear to me. I need to believe and be carried from doubt to certainty 
 and awareness of the glory of God- that I am His child forever and always\
 , and He has a plan for me for a hope and a future.</p>\n<p>TRUST IN THAT</p>\n<p>Trust in His thoughts</p>\n<p>Trust in His ways</p>\n<p>Follow His
  path of life!</p>\n
CATEGORIES:Daily Devotional
URL;VALUE=URI:https://www.sandstreams.com/mc-events/9-gods-love-poured-out/
METHOD:PUBLISH
END:VEVENT
END:VCALENDAR